



BEGIN:VCALENDAR
VERSION:2.0
PRODID:-//The California Courier - ECPv6.15.20//NONSGML v1.0//EN
CALSCALE:GREGORIAN
METHOD:PUBLISH
X-ORIGINAL-URL:https://www.thecaliforniacourier.com
X-WR-CALDESC:Events for The California Courier
REFRESH-INTERVAL;VALUE=DURATION:PT1H
X-Robots-Tag:noindex
X-PUBLISHED-TTL:PT1H
BEGIN:VTIMEZONE
TZID:America/Los_Angeles
BEGIN:DAYLIGHT
TZOFFSETFROM:-0800
TZOFFSETTO:-0700
TZNAME:PDT
DTSTART:20240310T100000
END:DAYLIGHT
BEGIN:STANDARD
TZOFFSETFROM:-0700
TZOFFSETTO:-0800
TZNAME:PST
DTSTART:20241103T090000
END:STANDARD
BEGIN:DAYLIGHT
TZOFFSETFROM:-0800
TZOFFSETTO:-0700
TZNAME:PDT
DTSTART:20250309T100000
END:DAYLIGHT
BEGIN:STANDARD
TZOFFSETFROM:-0700
TZOFFSETTO:-0800
TZNAME:PST
DTSTART:20251102T090000
END:STANDARD
BEGIN:DAYLIGHT
TZOFFSETFROM:-0800
TZOFFSETTO:-0700
TZNAME:PDT
DTSTART:20260308T100000
END:DAYLIGHT
BEGIN:STANDARD
TZOFFSETFROM:-0700
TZOFFSETTO:-0800
TZNAME:PST
DTSTART:20261101T090000
END:STANDARD
END:VTIMEZONE
BEGIN:VEVENT
DTSTART;TZID=America/Los_Angeles:20250907T123000
DTEND;TZID=America/Los_Angeles:20250907T180000
DTSTAMP:20260420T044731
CREATED:20250814T053816Z
LAST-MODIFIED:20250814T053850Z
UID:17703-1757248200-1757268000@www.thecaliforniacourier.com
SUMMARY:St. James\, Armenian  Picnic
DESCRIPTION:SUNDAY\, SEPTEMBER 7\, 2025 – Sunday\,  St. James Armenian Church of Los Angeles\, Annual Picnic 12:30 – 6:00 pm on church grounds\, 4950 W. Slauson Ave.\, Los Angeles\, CA 90056.\nArmenian food\, Live Armenian music by Five Hyes.  For more information call (323) 295-4588 or email secretary@stjamesla.net
URL:https://www.thecaliforniacourier.com/event/st-james-armenian-picnic/
LOCATION:4950 W. Slauson Ave\, Los Angeles\, CA 90056\, Los Angeles\, CA\, United States
ATTACH;FMTTYPE=image/png:https://www.thecaliforniacourier.com/wp-content/uploads/2025/08/St.-James-Picnic-Flyer.png
END:VEVENT
END:VCALENDAR